BEGIN:VCALENDAR
VERSION:2.0
PRODID:-//Bradeur.fr//FR
CALSCALE:GREGORIAN
METHOD:PUBLISH
BEGIN:VEVENT
UID:740-association-loisirs-fetes-et-culture-monchalsiens-brocante@bradeur.
 fr
DTSTAMP:20260425T175702Z
DTSTART:20260426T080000
DTEND:20260426T160000
SUMMARY:Association loisirs fêtes et culture monchalsiens — Brocante
DESCRIPTION:Dimanche 26 Avril 2026\nde 8h00 à 16h00\n\nAssociation loisirs
  fêtes et culture monchalsiens\n59224 Monchaux Sur Ecaillon
LOCATION:59224 Monchaux Sur Ecaillon
URL:https://bradeur.fr/braderie.php?slug=association-loisirs-fetes-et-cultu
 re-monchalsiens-brocante
END:VEVENT
END:VCALENDAR
