BEGIN:VCALENDAR
VERSION:2.0
PRODID:-//Bradeur.fr//FR
CALSCALE:GREGORIAN
METHOD:PUBLISH
BEGIN:VEVENT
UID:1133-association-loisirs-neuville-collection-bourse-collections@bradeur
 .fr
DTSTAMP:20260425T180717Z
DTSTART:20261108T080000
DTEND:20261108T170000
SUMMARY:association Loisirs Neuville Collection — Bourse Collections
DESCRIPTION:Dimanche 8 Novembre 2026\nde 8h00 à 17h00\n\nassociation Loisi
 rs Neuville Collection\n59554 Neuville Saint Rémy
LOCATION:59554 Neuville Saint Rémy
URL:https://bradeur.fr/braderie.php?slug=association-loisirs-neuville-colle
 ction-bourse-collections
END:VEVENT
END:VCALENDAR
