BEGIN:VCALENDAR
VERSION:2.0
PRODID:-//Bradeur.fr//FR
CALSCALE:GREGORIAN
METHOD:PUBLISH
BEGIN:VEVENT
UID:659-association-petite-synthoise-animation-brocante@bradeur.fr
DTSTAMP:20260425T204708Z
DTSTART:20260412T090000
DTEND:20260412T180000
SUMMARY:Association Petite Synthoise Animation — Brocante
DESCRIPTION:Le redressement et la transformation du Dunkerquois engagés il
  y a tout juste 10 ans se concrétisent aujourd'hui par l'implantation de..
 .\n\nDimanche 12 Avril 2026\nde 9h00 à 18h00\n\nAssociation Petite Synthoi
 se Animation\n59140 Dunkerque
LOCATION:59140 Dunkerque
URL:https://bradeur.fr/braderie.php?slug=association-petite-synthoise-anima
 tion-brocante
END:VEVENT
END:VCALENDAR
