BEGIN:VCALENDAR
VERSION:2.0
PRODID:-//Bradeur.fr//FR
CALSCALE:GREGORIAN
METHOD:PUBLISH
BEGIN:VEVENT
UID:989-association-quartier-du-jardin-public-puces@bradeur.fr
DTSTAMP:20260425T235312Z
DTSTART:20260628T080000
DTEND:20260628T160000
SUMMARY:Association Quartier du Jardin Public — Puces
DESCRIPTION:Dimanche 28 Juin 2026\nde 8h00 à 16h00\n\nAssociation Quartier
  du Jardin Public\n62400 Bethune
LOCATION:62400 Bethune
URL:https://bradeur.fr/braderie.php?slug=association-quartier-du-jardin-pub
 lic-puces
END:VEVENT
END:VCALENDAR
