BEGIN:VCALENDAR
VERSION:2.0
PRODID:-//Bradeur.fr//FR
CALSCALE:GREGORIAN
METHOD:PUBLISH
BEGIN:VEVENT
UID:762-association-r-eveil-brocante@bradeur.fr
DTSTAMP:20260425T235614Z
DTSTART:20260501T080000
DTEND:20260501T160000
SUMMARY:Association R'éveil — Brocante
DESCRIPTION:Changer l’image du coma et des cérébrolésés auprès du pu
 blic et des administrations.\n\nVendredi 1 Mai 2026\nde 8h00 à 16h00\n\nAs
 sociation R'éveil\n59290 Wasquehal
LOCATION:59290 Wasquehal
URL:https://bradeur.fr/braderie.php?slug=association-r-eveil-brocante
END:VEVENT
END:VCALENDAR
