BEGIN:VCALENDAR
VERSION:2.0
PRODID:-//Bradeur.fr//FR
CALSCALE:GREGORIAN
METHOD:PUBLISH
BEGIN:VEVENT
UID:524-association-rallye-des-d-s-braderie@bradeur.fr
DTSTAMP:20260425T180343Z
DTSTART:20260322T090000
DTEND:20260322T150000
SUMMARY:Association Rallye des D.S. — Braderie
DESCRIPTION:Dimanche 22 Mars 2026\nde 9h00 à 15h00\n\nAssociation Rallye d
 es D.S.\n59200 Tourcoing
LOCATION:59200 Tourcoing
URL:https://bradeur.fr/braderie.php?slug=association-rallye-des-d-s-braderi
 e
END:VEVENT
END:VCALENDAR
