BEGIN:VCALENDAR
VERSION:2.0
PRODID:-//Bradeur.fr//FR
CALSCALE:GREGORIAN
METHOD:PUBLISH
BEGIN:VEVENT
UID:692-association-reggae-terre-happy-story-rths-disque@bradeur.fr
DTSTAMP:20260425T180730Z
DTSTART:20260418T090000
DTEND:20260418T170000
SUMMARY:Association Reggae Terre Happy Story — Rths Disque
DESCRIPTION:Bienvenue sur le site Reggae Terre Happy Story... Reportages ph
 otos et vidéos de la scène Reggae, actu concerts et festival... Promotion
  artistique\n\nSamedi 18 Avril 2026\nde 9h00 à 17h00\n\nAssociation Reggae
  Terre Happy Story\n59171 Helesmes
LOCATION:59171 Helesmes
URL:https://bradeur.fr/braderie.php?slug=association-reggae-terre-happy-sto
 ry-rths-disque
END:VEVENT
END:VCALENDAR
