BEGIN:VCALENDAR
VERSION:2.0
PRODID:-//Bradeur.fr//FR
CALSCALE:GREGORIAN
METHOD:PUBLISH
BEGIN:VEVENT
UID:683-association-regionale-des-epeutnaerts-brocante@bradeur.fr
DTSTAMP:20260425T210005Z
DTSTART:20260412T090000
DTEND:20260412T170000
SUMMARY:Association régionale des épeutnaerts — Brocante
DESCRIPTION:Bienvenue sur le site officiel de la Mairie de Moringhem.\nMori
 nghem est une commune du Pas-de-Calais (62) dans la région des Hauts-de-Fr
 ance.\n\nDimanche 12 Avril 2026\nde 9h00 à 17h00\n\nAssociation régionale
  des épeutnaerts\n62910 Moringhem
LOCATION:62910 Moringhem
URL:https://bradeur.fr/braderie.php?slug=association-regionale-des-epeutnae
 rts-brocante
END:VEVENT
END:VCALENDAR
