BEGIN:VCALENDAR
VERSION:2.0
PRODID:-//Bradeur.fr//FR
CALSCALE:GREGORIAN
METHOD:PUBLISH
BEGIN:VEVENT
UID:614-association-solitude-hermitage-brocante@bradeur.fr
DTSTAMP:20260425T205029Z
DTSTART:20260405T090000
DTEND:20260405T160000
SUMMARY:Association Solitude-Hermitage — Brocante
DESCRIPTION:Dimanche 5 Avril 2026\nde 9h00 à 16h00\n\nAssociation Solitude
 -Hermitage\n59690 Vieux Conde
LOCATION:59690 Vieux Conde
URL:https://bradeur.fr/braderie.php?slug=association-solitude-hermitage-bro
 cante
END:VEVENT
END:VCALENDAR
