BEGIN:VCALENDAR
VERSION:2.0
PRODID:-//Bradeur.fr//FR
CALSCALE:GREGORIAN
METHOD:PUBLISH
BEGIN:VEVENT
UID:553-association-systeme-d-brocante@bradeur.fr
DTSTAMP:20260425T175955Z
DTSTART:20260329T090000
DTEND:20260329T180000
SUMMARY:association " Système D " — Brocante
DESCRIPTION:Ville de Coudekerque-Branche    \n\nSpecial Occasions Needs Spe
 cial Food  \n\nSuivez-votre ville sur les réseaux sociaux      \n\nWhat's 
 New       \n\nAllo ma ville 03.28.29.25.25   \n\nDe 8h30 à 12h00 et de 13h
 30 à 17h30\n\nDimanche 29 Mars 2026\nde 9h00 à 18h00\n\nassociation " Sys
 tème D "\n59210 Coudekerque Branche
LOCATION:59210 Coudekerque Branche
URL:https://bradeur.fr/braderie.php?slug=association-systeme-d-brocante
END:VEVENT
END:VCALENDAR
