BEGIN:VCALENDAR
VERSION:2.0
PRODID:-//Bradeur.fr//FR
CALSCALE:GREGORIAN
METHOD:PUBLISH
BEGIN:VEVENT
UID:941-association-z-event-s-braderie@bradeur.fr
DTSTAMP:20260425T193930Z
DTSTART:20260607T090000
DTEND:20260607T180000
SUMMARY:association Z-Event's — Braderie
DESCRIPTION:Dimanche 7 Juin 2026\nde 9h00 à 18h00\n\nassociation Z-Event's
 \n62470 Calonne Ricouart
LOCATION:62470 Calonne Ricouart
URL:https://bradeur.fr/braderie.php?slug=association-z-event-s-braderie
END:VEVENT
END:VCALENDAR
