BEGIN:VCALENDAR
VERSION:2.0
PRODID:-//Bradeur.fr//FR
CALSCALE:GREGORIAN
METHOD:PUBLISH
BEGIN:VEVENT
UID:1030-associationcqui-yahoo-fr-brocante@bradeur.fr
DTSTAMP:20260425T220830Z
DTSTART:20260802T070000
DTEND:20260802T150000
SUMMARY:associationcqui@yahoo.fr — Brocante
DESCRIPTION:Site officiel de Cœur de Flandre agglo - Retrouvez tous les se
 rvices, les infos pratiques, les actualités et événements de l'intercomm
 unalité\n\nDimanche 2 Août 2026\nde 7h00 à 15h00\n\nassociationcqui@yaho
 o.fr\n59270 Bailleul
LOCATION:59270 Bailleul
URL:https://bradeur.fr/braderie.php?slug=associationcqui-yahoo-fr-brocante
END:VEVENT
END:VCALENDAR
