BEGIN:VCALENDAR
VERSION:2.0
PRODID:-//Bradeur.fr//FR
CALSCALE:GREGORIAN
METHOD:PUBLISH
BEGIN:VEVENT
UID:667-astuce-saint-martin-brocante@bradeur.fr
DTSTAMP:20260425T205030Z
DTSTART:20260412T080000
DTEND:20260412T180000
SUMMARY:Astuce Saint Martin — Brocante
DESCRIPTION:Bienvenue sur le site officiel de la ville de Fresnes sur Escau
 t.\nToute l'actualité municipale, associative et festive de la commune.\n\
 nDimanche 12 Avril 2026\nde 8h00 à 18h00\n\nAstuce Saint Martin\n59970 Fre
 snes Sur Escaut
LOCATION:59970 Fresnes Sur Escaut
URL:https://bradeur.fr/braderie.php?slug=astuce-saint-martin-brocante
END:VEVENT
END:VCALENDAR
