BEGIN:VCALENDAR
VERSION:2.0
PRODID:-//Bradeur.fr//FR
CALSCALE:GREGORIAN
METHOD:PUBLISH
BEGIN:VEVENT
UID:523-atelier-des-aiguilles-de-santes-puces@bradeur.fr
DTSTAMP:20260425T180712Z
DTSTART:20260322T090000
DTEND:20260322T170000
SUMMARY:Atelier des Aiguilles de Santes — Puces
DESCRIPTION:Dimanche 22 Mars 2026\nde 9h00 à 17h00\n\nAtelier des Aiguille
 s de Santes\n59221 Santes
LOCATION:59221 Santes
URL:https://bradeur.fr/braderie.php?slug=atelier-des-aiguilles-de-santes-pu
 ces
END:VEVENT
END:VCALENDAR
