BEGIN:VCALENDAR
VERSION:2.0
PRODID:-//Bradeur.fr//FR
CALSCALE:GREGORIAN
METHOD:PUBLISH
BEGIN:VEVENT
UID:488-ateliers-municipaux-de-coupe-et-couture-wattrelos-puces@bradeur.fr
DTSTAMP:20260425T180835Z
DTSTART:20260314T140000
DTEND:20260314T180000
SUMMARY:Ateliers Municipaux de Coupe et Couture Wattrelos — Puces
DESCRIPTION:Samedi 14 Mars 2026\nde 14h00 à 18h00\n\nAteliers Municipaux d
 e Coupe et Couture Wattrelos\n59150 Wattrelos
LOCATION:59150 Wattrelos
URL:https://bradeur.fr/braderie.php?slug=ateliers-municipaux-de-coupe-et-co
 uture-wattrelos-puces
END:VEVENT
END:VCALENDAR
