BEGIN:VCALENDAR
VERSION:2.0
PRODID:-//Bradeur.fr//FR
CALSCALE:GREGORIAN
METHOD:PUBLISH
BEGIN:VEVENT
UID:790-au-coq-gaulois-vide-greniers@bradeur.fr
DTSTAMP:20260425T210247Z
DTSTART:20260503T090000
DTEND:20260503T170000
SUMMARY:AU COQ GAULOIS — Vide-greniers
DESCRIPTION:Bienvenue sur le site de la commune de Marquillies...    D'une 
 superficie de 694 hectares pour une population de 2 000 habitants, Marquill
 ies est une localité nichée au coeur des Weppes, dans le canton d'Annoeul
 lin, à 18\n\nDimanche 3 Mai 2026\nde 9h00 à 17h00\n\nAU COQ GAULOIS\n5927
 4 Marquillies
LOCATION:59274 Marquillies
URL:https://bradeur.fr/braderie.php?slug=au-coq-gaulois-vide-greniers
END:VEVENT
END:VCALENDAR
