BEGIN:VCALENDAR
VERSION:2.0
PRODID:-//Bradeur.fr//FR
CALSCALE:GREGORIAN
METHOD:PUBLISH
BEGIN:VEVENT
UID:876-banquise-fm-banquise-fm-disque@bradeur.fr
DTSTAMP:20260425T210145Z
DTSTART:20260517T090000
DTEND:20260517T170000
SUMMARY:Banquise FM — Banquise Fm Disque
DESCRIPTION:Retrouvez ici toutes les informations pour vos démarches, lois
 irs, les actus de votre ville, et votre agenda des sorties.\n\nDimanche 17 
 Mai 2026\nde 9h00 à 17h00\n\nBanquise FM\n62330 Isbergues
LOCATION:62330 Isbergues
URL:https://bradeur.fr/braderie.php?slug=banquise-fm-banquise-fm-disque
END:VEVENT
END:VCALENDAR
