BEGIN:VCALENDAR
VERSION:2.0
PRODID:-//Bradeur.fr//FR
CALSCALE:GREGORIAN
METHOD:PUBLISH
BEGIN:VEVENT
UID:777-basket-club-saint-martinois-brocante@bradeur.fr
DTSTAMP:20260426T022146Z
DTSTART:20260501T070000
DTEND:20260501T173000
SUMMARY:Basket Club Saint Martinois — Brocante
DESCRIPTION:Le Basket Club Saint Martinois, compte prés de 300 licenciés,
  masculin et féminin, qui font de notre club le plus gros club de basket m
 ixte du district boulonnais.\n\nVendredi 1 Mai 2026\nde 7h00 à 17h30\n\nBa
 sket Club Saint Martinois\n62280 Saint Martin Boulogne
LOCATION:62280 Saint Martin Boulogne
URL:https://bradeur.fr/braderie.php?slug=basket-club-saint-martinois-brocan
 te
END:VEVENT
END:VCALENDAR
