BEGIN:VCALENDAR
VERSION:2.0
PRODID:-//Bradeur.fr//FR
CALSCALE:GREGORIAN
METHOD:PUBLISH
BEGIN:VEVENT
UID:920-bollaert-boys-bollaert-boys-sport@bradeur.fr
DTSTAMP:20260425T194253Z
DTSTART:20260531T093000
DTEND:20260531T170000
SUMMARY:Bollaert Boys — Bollaert Boys Sport
DESCRIPTION:Bienvenue sur le site de la ville de Merlimont\n\nDimanche 31 M
 ai 2026\nde 9h30 à 17h00\n\nBollaert Boys\n62155 Merlimont
LOCATION:62155 Merlimont
URL:https://bradeur.fr/braderie.php?slug=bollaert-boys-bollaert-boys-sport
END:VEVENT
END:VCALENDAR
