BEGIN:VCALENDAR
VERSION:2.0
PRODID:-//Bradeur.fr//FR
CALSCALE:GREGORIAN
METHOD:PUBLISH
BEGIN:VEVENT
UID:1851-bourse-aux-vetements-et-aux-jouets@bradeur.fr
DTSTAMP:20260425T180730Z
DTSTART:21101021T083000
DTEND:21101021T150000
SUMMARY:Bourse aux vÃªtements et aux jouets
DESCRIPTION:Bourse aux vÃªtements et jouets organisÃ©e par les jeunes sapeu
 rs pompiers de baldersheim.\nInscription par mail de prÃ©fÃ©rence ou par tÃ
 ©lÃ©phone le cas Ã©chÃ©ant.\n10â‚¬ la table de 1,25m. PossibilitÃ© d'en rÃ©
 server plusieurs.\n\nDimanche 8 Mars 2026\nde 8h30 Ã  15h00\n\nJeunes Sapeu
 rs Pompiers de Baldersheim\nRue de Lorraine\n68390 Baldersheim\n\nParticuli
 er : 1,25 â‚¬
LOCATION:Rue de Lorraine, 68390 Baldersheim
URL:https://bradeur.fr/braderie.php?slug=bourse-aux-vetements-et-aux-jouets
END:VEVENT
END:VCALENDAR
