BEGIN:VCALENDAR
VERSION:2.0
PRODID:-//Bradeur.fr//FR
CALSCALE:GREGORIAN
METHOD:PUBLISH
BEGIN:VEVENT
UID:509-bourse-collections-a-laplaigne@bradeur.fr
DTSTAMP:20260425T180052Z
DTSTART:20260315T090000
DTEND:20260315T150000
SUMMARY:Bourse Collections à Laplaigne
DESCRIPTION:Dimanche 15 Mars 2026\nde 9h00 à 15h00\n\nLaplaigne
LOCATION:Laplaigne
URL:https://bradeur.fr/braderie.php?slug=bourse-collections-a-laplaigne
END:VEVENT
END:VCALENDAR
