BEGIN:VCALENDAR
VERSION:2.0
PRODID:-//Bradeur.fr//FR
CALSCALE:GREGORIAN
METHOD:PUBLISH
BEGIN:VEVENT
UID:1110-bourse-collections-a-le-portel@bradeur.fr
DTSTAMP:20260425T180344Z
DTSTART:20261009T100000
DTEND:20261011T180000
SUMMARY:Bourse Collections à Le Portel
DESCRIPTION:SAUVEGARDE - MEMOIRE - TRANSMISSION\n\nVendredi 9 Octobre 2026\
 nde 10h00 à 18h00\n\nSamedi 10 Octobre 2026\nde 10h00 à 18h00\n\nDimanche
  11 Octobre 2026\nde 9h30 à 11h30\n\nAssociation Fort Cap d'Alprech\n62480
  Le Portel
LOCATION:62480 Le Portel
URL:https://bradeur.fr/braderie.php?slug=bourse-collections-a-le-portel
END:VEVENT
END:VCALENDAR
