BEGIN:VCALENDAR
VERSION:2.0
PRODID:-//Bradeur.fr//FR
CALSCALE:GREGORIAN
METHOD:PUBLISH
BEGIN:VEVENT
UID:1113-bourse-collections-a-mont-saint-eloi@bradeur.fr
DTSTAMP:20260425T180416Z
DTSTART:20261011T080000
DTEND:20261011T170000
SUMMARY:Bourse Collections à Mont Saint Eloi
DESCRIPTION:Dimanche 11 Octobre 2026\nde 8h00 à 17h00\n\n62144 Mont Saint 
 Eloi
LOCATION:62144 Mont Saint Eloi
URL:https://bradeur.fr/braderie.php?slug=bourse-collections-a-mont-saint-el
 oi
END:VEVENT
END:VCALENDAR
