BEGIN:VCALENDAR
VERSION:2.0
PRODID:-//Bradeur.fr//FR
CALSCALE:GREGORIAN
METHOD:PUBLISH
BEGIN:VEVENT
UID:1136-bourse-collections-a-noyelles-sous-lens@bradeur.fr
DTSTAMP:20260425T180601Z
DTSTART:20261115T090000
DTEND:20261115T160000
SUMMARY:Bourse Collections à Noyelles Sous Lens
DESCRIPTION:Bienvenue sur le site officiel de la ville de Noyelles-sous-Len
 s. Retrouvez ici tous les services de la ville : démarches en ligne, évè
 nements et actualités.\n\nDimanche 15 Novembre 2026\nde 9h00 à 16h00\n\nP
 age d'accueil\n62221 Noyelles Sous Lens
LOCATION:62221 Noyelles Sous Lens
URL:https://bradeur.fr/braderie.php?slug=bourse-collections-a-noyelles-sous
 -lens
END:VEVENT
END:VCALENDAR
