BEGIN:VCALENDAR
VERSION:2.0
PRODID:-//Bradeur.fr//FR
CALSCALE:GREGORIAN
METHOD:PUBLISH
BEGIN:VEVENT
UID:1103-bourse-collections-a-sallaumines@bradeur.fr
DTSTAMP:20260425T180226Z
DTSTART:20261004T090000
DTEND:20261004T170000
SUMMARY:Bourse Collections à Sallaumines
DESCRIPTION:Dimanche 4 Octobre 2026\nde 9h00 à 17h00\n\n62430 Sallaumines
LOCATION:62430 Sallaumines
URL:https://bradeur.fr/braderie.php?slug=bourse-collections-a-sallaumines
END:VEVENT
END:VCALENDAR
