BEGIN:VCALENDAR
VERSION:2.0
PRODID:-//Bradeur.fr//FR
CALSCALE:GREGORIAN
METHOD:PUBLISH
BEGIN:VEVENT
UID:1124-bourse-collections-a-salome@bradeur.fr
DTSTAMP:20260425T180133Z
DTSTART:20261101T080000
DTEND:20261101T160000
SUMMARY:Bourse Collections à Salome
DESCRIPTION:Dimanche 1 Novembre 2026\nde 8h00 à 16h00\n\n59496 Salome
LOCATION:59496 Salome
URL:https://bradeur.fr/braderie.php?slug=bourse-collections-a-salome
END:VEVENT
END:VCALENDAR
