BEGIN:VCALENDAR
VERSION:2.0
PRODID:-//Bradeur.fr//FR
CALSCALE:GREGORIAN
METHOD:PUBLISH
BEGIN:VEVENT
UID:630-bourse-collections-a-zonnebeke@bradeur.fr
DTSTAMP:20260425T225443Z
DTSTART:20260406T080000
DTEND:20260406T160000
SUMMARY:Bourse Collections à Zonnebeke
DESCRIPTION:Lundi 6 Avril 2026\nde 8h00 à 16h00\n\nZonnebeke
LOCATION:Zonnebeke
URL:https://bradeur.fr/braderie.php?slug=bourse-collections-a-zonnebeke
END:VEVENT
END:VCALENDAR
