BEGIN:VCALENDAR
VERSION:2.0
PRODID:-//Bradeur.fr//FR
CALSCALE:GREGORIAN
METHOD:PUBLISH
BEGIN:VEVENT
UID:957-braderie-a-coutiches@bradeur.fr
DTSTAMP:20260425T193647Z
DTSTART:20260614T070000
DTEND:20260614T130000
SUMMARY:Braderie à Coutiches
DESCRIPTION:Dimanche 14 Juin 2026\nde 7h00 à 13h00\n\n59310 Coutiches
LOCATION:59310 Coutiches
URL:https://bradeur.fr/braderie.php?slug=braderie-a-coutiches
END:VEVENT
END:VCALENDAR
