BEGIN:VCALENDAR
VERSION:2.0
PRODID:-//Bradeur.fr//FR
CALSCALE:GREGORIAN
METHOD:PUBLISH
BEGIN:VEVENT
UID:662-braderie-a-douai@bradeur.fr
DTSTAMP:20260425T175857Z
DTSTART:20260412T093000
DTEND:20260412T180000
SUMMARY:Braderie à Douai
DESCRIPTION:Dimanche 12 Avril 2026\nde 9h30 à 18h00\n\n59500 Douai
LOCATION:59500 Douai
URL:https://bradeur.fr/braderie.php?slug=braderie-a-douai
END:VEVENT
END:VCALENDAR
