BEGIN:VCALENDAR
VERSION:2.0
PRODID:-//Bradeur.fr//FR
CALSCALE:GREGORIAN
METHOD:PUBLISH
BEGIN:VEVENT
UID:661-braderie-a-tourcoing@bradeur.fr
DTSTAMP:20260425T180052Z
DTSTART:20260412T080000
DTEND:20260412T140000
SUMMARY:Braderie à Tourcoing
DESCRIPTION:Dimanche 12 Avril 2026\nde 8h00 à 14h00\n\nTourcoing\n59200 To
 urcoing
LOCATION:59200 Tourcoing
URL:https://bradeur.fr/braderie.php?slug=braderie-a-tourcoing
END:VEVENT
END:VCALENDAR
