BEGIN:VCALENDAR
VERSION:2.0
PRODID:-//Bradeur.fr//FR
CALSCALE:GREGORIAN
METHOD:PUBLISH
BEGIN:VEVENT
UID:904-brocante-a-aix-noulette@bradeur.fr
DTSTAMP:20260426T032113Z
DTSTART:20260525T070000
DTEND:20260525T170000
SUMMARY:Brocante à Aix Noulette
DESCRIPTION:Lundi 25 Mai 2026\nde 7h00 à 17h00\n\n62160 Aix Noulette
LOCATION:62160 Aix Noulette
URL:https://bradeur.fr/braderie.php?slug=brocante-a-aix-noulette
END:VEVENT
END:VCALENDAR
