BEGIN:VCALENDAR
VERSION:2.0
PRODID:-//Bradeur.fr//FR
CALSCALE:GREGORIAN
METHOD:PUBLISH
BEGIN:VEVENT
UID:1073-brocante-a-annezin@bradeur.fr
DTSTAMP:20260425T204854Z
DTSTART:20260913T080000
DTEND:20261004T170000
SUMMARY:Brocante à Annezin
DESCRIPTION:Dimanche 13 Septembre 2026\nde 8h00 à 17h00\n\n62232 Annezin
LOCATION:62232 Annezin
URL:https://bradeur.fr/braderie.php?slug=brocante-a-annezin
END:VEVENT
END:VCALENDAR
