BEGIN:VCALENDAR
VERSION:2.0
PRODID:-//Bradeur.fr//FR
CALSCALE:GREGORIAN
METHOD:PUBLISH
BEGIN:VEVENT
UID:1092-brocante-a-anzin-1@bradeur.fr
DTSTAMP:20260425T180226Z
DTSTART:20260927T060000
DTEND:20260927T170000
SUMMARY:Brocante à Anzin
DESCRIPTION:Dimanche 27 Septembre 2026\nde 6h00 à 17h00\n\n59410 Anzin
LOCATION:59410 Anzin
URL:https://bradeur.fr/braderie.php?slug=brocante-a-anzin-1
END:VEVENT
END:VCALENDAR
