BEGIN:VCALENDAR
VERSION:2.0
PRODID:-//Bradeur.fr//FR
CALSCALE:GREGORIAN
METHOD:PUBLISH
BEGIN:VEVENT
UID:1049-brocante-a-arleux-1@bradeur.fr
DTSTAMP:20260425T204917Z
DTSTART:20260816T083000
DTEND:20260816T160000
SUMMARY:Brocante à Arleux
DESCRIPTION:Nord Solidarité, association à but humanitaire orienté  vers
  la biélorussie, son peuple, ses enfants, qui vivent depuis 1986 dans l'om
 bre de Tchernobyl qui a irradié 70 % de leur territoire.\nAccueil d'enfant
  chaque été pour un séjour humainitaire d'un mois \nMissions humanitaire
 s en Biélorussie avec nos familles d'accueil \nEchanges culturels : accuei
 ls d'ensemble folklorique et groupes vocaux ..
LOCATION:59151 Arleux
URL:https://bradeur.fr/braderie.php?slug=brocante-a-arleux-1
END:VEVENT
END:VCALENDAR
