BEGIN:VCALENDAR
VERSION:2.0
PRODID:-//Bradeur.fr//FR
CALSCALE:GREGORIAN
METHOD:PUBLISH
BEGIN:VEVENT
UID:700-brocante-a-bapaume@bradeur.fr
DTSTAMP:20260425T235021Z
DTSTART:20260418T080000
DTEND:20260418T180000
SUMMARY:Brocante à Bapaume
DESCRIPTION:Samedi 18 Avril 2026\nde 8h00 à 18h00\n\n62450 Bapaume
LOCATION:62450 Bapaume
URL:https://bradeur.fr/braderie.php?slug=brocante-a-bapaume
END:VEVENT
END:VCALENDAR
