BEGIN:VCALENDAR
VERSION:2.0
PRODID:-//Bradeur.fr//FR
CALSCALE:GREGORIAN
METHOD:PUBLISH
BEGIN:VEVENT
UID:1051-brocante-a-billy-montigny@bradeur.fr
DTSTAMP:20260425T205101Z
DTSTART:20260822T100000
DTEND:20260822T150000
SUMMARY:Brocante à Billy Montigny
DESCRIPTION:Bienvenue sur le site officiel du club ASB Cyclotourisme. Retro
 uvez toute l'actualité, le calendrier et les résultats des équipes, ains
 i que toute la vie du club.\n\nSamedi 22 Août 2026\nde 10h00 à 15h00\n\nA
 SB Cyclotourisme : site officiel du club de foot de BILLY MONTIGNY\n62420 B
 illy Montigny
LOCATION:62420 Billy Montigny
URL:https://bradeur.fr/braderie.php?slug=brocante-a-billy-montigny
END:VEVENT
END:VCALENDAR
