BEGIN:VCALENDAR
VERSION:2.0
PRODID:-//Bradeur.fr//FR
CALSCALE:GREGORIAN
METHOD:PUBLISH
BEGIN:VEVENT
UID:506-brocante-a-blendecques@bradeur.fr
DTSTAMP:20260425T175858Z
DTSTART:20260315T080000
DTEND:20260315T170000
SUMMARY:Brocante à Blendecques
DESCRIPTION:Dimanche 15 Mars 2026\nde 8h00 à 17h00\n\n62575 Blendecques
LOCATION:62575 Blendecques
URL:https://bradeur.fr/braderie.php?slug=brocante-a-blendecques
END:VEVENT
END:VCALENDAR
