BEGIN:VCALENDAR
VERSION:2.0
PRODID:-//Bradeur.fr//FR
CALSCALE:GREGORIAN
METHOD:PUBLISH
BEGIN:VEVENT
UID:702-brocante-a-brouckerque@bradeur.fr
DTSTAMP:20260425T234816Z
DTSTART:20260419T080000
DTEND:20260419T170000
SUMMARY:Brocante à Brouckerque
DESCRIPTION:Dimanche 19 Avril 2026\nde 8h00 à 17h00\n\n59630 Brouckerque
LOCATION:59630 Brouckerque
URL:https://bradeur.fr/braderie.php?slug=brocante-a-brouckerque
END:VEVENT
END:VCALENDAR
