BEGIN:VCALENDAR
VERSION:2.0
PRODID:-//Bradeur.fr//FR
CALSCALE:GREGORIAN
METHOD:PUBLISH
BEGIN:VEVENT
UID:1127-brocante-a-carnin@bradeur.fr
DTSTAMP:20260425T180006Z
DTSTART:20261107T080000
DTEND:20261107T160000
SUMMARY:Brocante à Carnin
DESCRIPTION:Samedi 7 Novembre 2026\nde 8h00 à 16h00\n\n59112 Carnin
LOCATION:59112 Carnin
URL:https://bradeur.fr/braderie.php?slug=brocante-a-carnin
END:VEVENT
END:VCALENDAR
