BEGIN:VCALENDAR
VERSION:2.0
PRODID:-//Bradeur.fr//FR
CALSCALE:GREGORIAN
METHOD:PUBLISH
BEGIN:VEVENT
UID:1068-brocante-a-conchil-le-temple@bradeur.fr
DTSTAMP:20260425T224819Z
DTSTART;VALUE=DATE:20260906
DTEND;VALUE=DATE:20260906
SUMMARY:Brocante à Conchil Le Temple
DESCRIPTION:Dimanche 6 Septembre 2026\n\n62180 Conchil Le Temple
LOCATION:62180 Conchil Le Temple
URL:https://bradeur.fr/braderie.php?slug=brocante-a-conchil-le-temple
END:VEVENT
END:VCALENDAR
