BEGIN:VCALENDAR
VERSION:2.0
PRODID:-//Bradeur.fr//FR
CALSCALE:GREGORIAN
METHOD:PUBLISH
BEGIN:VEVENT
UID:772-brocante-a-courcelles-le-comte@bradeur.fr
DTSTAMP:20260425T234816Z
DTSTART:20260501T090000
DTEND:20260501T170000
SUMMARY:Brocante à Courcelles Le Comte
DESCRIPTION:Vendredi 1 Mai 2026\nde 9h00 à 17h00\n\n62121 Courcelles Le Co
 mte
LOCATION:62121 Courcelles Le Comte
URL:https://bradeur.fr/braderie.php?slug=brocante-a-courcelles-le-comte
END:VEVENT
END:VCALENDAR
