BEGIN:VCALENDAR
VERSION:2.0
PRODID:-//Bradeur.fr//FR
CALSCALE:GREGORIAN
METHOD:PUBLISH
BEGIN:VEVENT
UID:573-brocante-a-denain@bradeur.fr
DTSTAMP:20260425T180016Z
DTSTART:20260329T080000
DTEND:20260329T170000
SUMMARY:Brocante à Denain
DESCRIPTION:Dimanche 29 Mars 2026\nde 8h00 à 17h00\n\n59220 Denain
LOCATION:59220 Denain
URL:https://bradeur.fr/braderie.php?slug=brocante-a-denain
END:VEVENT
END:VCALENDAR
