BEGIN:VCALENDAR
VERSION:2.0
PRODID:-//Bradeur.fr//FR
CALSCALE:GREGORIAN
METHOD:PUBLISH
BEGIN:VEVENT
UID:776-brocante-a-desvres@bradeur.fr
DTSTAMP:20260425T234959Z
DTSTART:20260501T080000
DTEND:20260501T183000
SUMMARY:Brocante à Desvres
DESCRIPTION:Vendredi 1 Mai 2026\nde 8h00 à 18h30\n\n62240 Desvres
LOCATION:62240 Desvres
URL:https://bradeur.fr/braderie.php?slug=brocante-a-desvres
END:VEVENT
END:VCALENDAR
