BEGIN:VCALENDAR
VERSION:2.0
PRODID:-//Bradeur.fr//FR
CALSCALE:GREGORIAN
METHOD:PUBLISH
BEGIN:VEVENT
UID:517-brocante-a-douchy-les-mines@bradeur.fr
DTSTAMP:20260425T180343Z
DTSTART:20260321T080000
DTEND:20260322T170000
SUMMARY:Brocante à Douchy Les Mines
DESCRIPTION:Samedi 21 Mars 2026\nde 8h00 à 17h00\n\nDimanche 22 Mars 2026\
 nde 10h00 à 17h30\n\n59282 Douchy Les Mines
LOCATION:59282 Douchy Les Mines
URL:https://bradeur.fr/braderie.php?slug=brocante-a-douchy-les-mines
END:VEVENT
END:VCALENDAR
