BEGIN:VCALENDAR
VERSION:2.0
PRODID:-//Bradeur.fr//FR
CALSCALE:GREGORIAN
METHOD:PUBLISH
BEGIN:VEVENT
UID:704-brocante-a-dunkerque@bradeur.fr
DTSTAMP:20260425T230844Z
DTSTART:20260419T090000
DTEND:20260419T170000
SUMMARY:Brocante à Dunkerque
DESCRIPTION:Dimanche 19 Avril 2026\nde 9h00 à 17h00\n\n59140 Dunkerque
LOCATION:59140 Dunkerque
URL:https://bradeur.fr/braderie.php?slug=brocante-a-dunkerque
END:VEVENT
END:VCALENDAR
