BEGIN:VCALENDAR
VERSION:2.0
PRODID:-//Bradeur.fr//FR
CALSCALE:GREGORIAN
METHOD:PUBLISH
BEGIN:VEVENT
UID:1084-brocante-a-escarmain@bradeur.fr
DTSTAMP:20260425T204545Z
DTSTART:20260926T080000
DTEND:20260926T160000
SUMMARY:Brocante à Escarmain
DESCRIPTION:Samedi 26 Septembre 2026\nde 8h00 à 16h00\n\n59213 Escarmain
LOCATION:59213 Escarmain
URL:https://bradeur.fr/braderie.php?slug=brocante-a-escarmain
END:VEVENT
END:VCALENDAR
