BEGIN:VCALENDAR
VERSION:2.0
PRODID:-//Bradeur.fr//FR
CALSCALE:GREGORIAN
METHOD:PUBLISH
BEGIN:VEVENT
UID:666-brocante-a-escaudain@bradeur.fr
DTSTAMP:20260425T204545Z
DTSTART:20260412T080000
DTEND:20260412T153000
SUMMARY:Brocante à Escaudain
DESCRIPTION:Dimanche 12 Avril 2026\nde 8h00 à 15h30\n\n59124 Escaudain
LOCATION:59124 Escaudain
URL:https://bradeur.fr/braderie.php?slug=brocante-a-escaudain
END:VEVENT
END:VCALENDAR
