BEGIN:VCALENDAR
VERSION:2.0
PRODID:-//Bradeur.fr//FR
CALSCALE:GREGORIAN
METHOD:PUBLISH
BEGIN:VEVENT
UID:682-brocante-a-givenchy-en-gohelle@bradeur.fr
DTSTAMP:20260425T205101Z
DTSTART:20260412T080000
DTEND:20260412T160000
SUMMARY:Brocante à Givenchy En Gohelle
DESCRIPTION:Dimanche 12 Avril 2026\nde 8h00 à 16h00\n\n62580 Givenchy En G
 ohelle
LOCATION:62580 Givenchy En Gohelle
URL:https://bradeur.fr/braderie.php?slug=brocante-a-givenchy-en-gohelle
END:VEVENT
END:VCALENDAR
