BEGIN:VCALENDAR
VERSION:2.0
PRODID:-//Bradeur.fr//FR
CALSCALE:GREGORIAN
METHOD:PUBLISH
BEGIN:VEVENT
UID:555-brocante-a-grand-fort-philippe@bradeur.fr
DTSTAMP:20260425T180507Z
DTSTART:20260329T070000
DTEND:20260329T170000
SUMMARY:Brocante à Grand Fort Philippe
DESCRIPTION:Dimanche 29 Mars 2026\nde 7h00 à 17h00\n\n59153 Grand Fort Phi
 lippe
LOCATION:59153 Grand Fort Philippe
URL:https://bradeur.fr/braderie.php?slug=brocante-a-grand-fort-philippe
END:VEVENT
END:VCALENDAR
