BEGIN:VCALENDAR
VERSION:2.0
PRODID:-//Bradeur.fr//FR
CALSCALE:GREGORIAN
METHOD:PUBLISH
BEGIN:VEVENT
UID:1048-brocante-a-guise@bradeur.fr
DTSTAMP:20260425T204642Z
DTSTART:20260815T080000
DTEND:20260815T170000
SUMMARY:Brocante à Guise
DESCRIPTION:Samedi 15 Août 2026\nde 8h00 à 17h00\n\n02120 Guise
LOCATION:02120 Guise
URL:https://bradeur.fr/braderie.php?slug=brocante-a-guise
END:VEVENT
END:VCALENDAR
